BEGIN:VCALENDAR
VERSION:2.0
PRODID:-//ChamberMaster//Event Calendar 2.0//EN
METHOD:PUBLISH
X-PUBLISHED-TTL:P1H
REFRESH-INTERVAL:P1H
CALSCALE:GREGORIAN
BEGIN:VTIMEZONE
TZID:America/Chicago
BEGIN:DAYLIGHT
RRULE:FREQ=YEARLY;BYMONTH=3;BYDAY=2SU
DTSTART:20070101T000000
TZOFFSETFROM:-0600
TZOFFSETTO:-0500
TZNAME:Central Daylight Time
END:DAYLIGHT
BEGIN:STANDARD
RRULE:FREQ=YEARLY;BYMONTH=11;BYDAY=1SU
DTSTART:20070101T000000
TZOFFSETFROM:-0500
TZOFFSETTO:-0600
TZNAME:Central Standard Time
END:STANDARD
END:VTIMEZONE
BEGIN:VEVENT
DTSTART;VALUE=DATE:20261003
DTEND;VALUE=DATE:20261004
TRANSP:TRANSPARENT
X-MICROSOFT-CDO-ALLDAYEVENT:TRUE
SUMMARY:RipFest 2026
DESCRIPTION:Vendor registration will open May 15\, 2026.  \nEveryone's favorite day in Eastland Texas includes RipFest with a 5K race\, a large parade\, vendor booths\, live entertainment\, kids' street\, car show and tons of food! Check out this year's lineup for activities: Saturday\, October 3rd: \n-Old Rip's Meals on Wheels 5k Run: Siebert Elementary\, 8:00 AM\n-Old Rip Parade: Main Street\, 11:00 AM\n-Kids' Street: Commerce Street\, 10:00 AM - 4:00 PM\n-Vendor Booths: Around the Downtown Square (Commerce & Lamar Street)\, 9:00 AM - 4:00 PM\n-Live Entertainment: Courthouse Steps\, 12:00 PM -  4:00 PM\n-Blake Fulenwider Automotive Old Rip Car Show: 9:00 AM to 3:00 PM ONLINE VENDOR REGISTRATION WILL OPEN FRIDAY\, MAY 15. \n\nCLICK HERE TO REGISTER ONLINE\n\nCLICK FOR VENDORS RULES & REGULATIONSIf you prefer to register on paper and mail in\, click here to download the application.\n\nIf you have any questions\, please call the Eastland Chamber of Commerce at 254-629-2332 or email chamber@eastland.net.If the registration shows no spaces available for your selection\, please continue the registration to be put on the waitlist. We will review and see if we can make room for you.
X-ALT-DESC;FMTTYPE=text/html:<!DOCTYPE html><html><head><title></title></head><body aria-disabled="false"><p><strong fr-original-style="" style="font-weight: 700\;"><span style="color: rgb(184\, 49\, 47)\;">Vendor registration will open May 15\, 2026. &nbsp\;</span></strong></p><p><br></p><hr fr-original-style="" style="clear: both\; user-select: none\; break-after: page\;"><p>Everyone&#39\;s favorite day in Eastland Texas includes RipFest with a 5K race\, a large parade\, vendor booths\, live entertainment\, kids&#39\; street\, car show and tons of food!&nbsp\;</p><p><strong fr-original-style="" style="font-weight: 700\;">Check out this year&#39\;s lineup for activities:&nbsp\;</strong></p><p><strong fr-original-style="" style="font-weight: 700\;">Saturday\, October 3rd:&nbsp\;</strong><br>-<em><span style="color: rgb(184\, 49\, 47)\;">Old Rip&rsquo\;s Meals on Wheels 5k Run</span></em><span style="color: rgb(184\, 49\, 47)\;">:</span> Siebert Elementary\, 8:00 AM<br>-<em><span style="color: rgb(184\, 49\, 47)\;">Old Rip Parade</span></em>: Main Street\, 11:00 AM<br>-<em><span style="color: rgb(184\, 49\, 47)\;">Kids&#39\; Street</span></em>: Commerce Street\, 10:00 AM - 4:00 PM<br>-<em><span style="color: rgb(184\, 49\, 47)\;">Vendor Booths</span></em>: Around the Downtown Square (Commerce &amp\; Lamar Street)\, 9:00 AM - 4:00 PM<br>-<em><span style="color: rgb(184\, 49\, 47)\;">Live Entertainment</span></em><span style="color: rgb(184\, 49\, 47)\;">:&nbsp\;</span>Courthouse Steps\, 12:00 PM - &nbsp\;4:00 PM<br>-<em><span style="color: rgb(184\, 49\, 47)\;">Blake Fulenwider Automotive&nbsp\;</span></em><em><span style="color: rgb(184\, 49\, 47)\;"><em>Old Rip Car Show</em></span></em>: 9:00 AM to 3:00 PM&nbsp\;</p><p><strong fr-original-style="" style="font-weight: 700\;">ONLINE VENDOR REGISTRATION WILL OPEN FRIDAY\, MAY 15. </strong><br><br><a fr-original-style="" href="https://business.eastlandchamber.com/ap/Events/Register/6VF6mZWtmC1CZ" rel="noopener noreferrer" style="user-select: auto\;" target="_blank">CLICK HERE TO REGISTER ONLINE</a><br><br><span style="color: rgb(184\, 49\, 47)\;"><a fr-original-style="" href="https://eastlandchamberofcommerce.growthzoneapp.com/ap/CloudFile/Download/pG57jj9L" rel="noopener noreferrer" style="user-select: auto\; color: inherit\;" target="_blank"><strong fr-original-style="" style="font-weight: 700\;">CLICK FOR VENDORS RULES &amp\; REGULATIONS</strong></a></span></p><p>If you prefer to register on paper and mail in\, click here to download the application.<br><br>If you have any questions\, please call the Eastland Chamber of Commerce at 254-629-2332 or email <a data-fr-linked="true" fr-original-style="" href="mailto:chamber@eastland.net" style="user-select: auto\;">chamber@eastland.net</a>.</p><p><em><strong fr-original-style="" style="font-weight: 700\;">If the registration shows no spaces available for your selection\, please continue the registration to be put on the waitlist. We will review and see if we can make room for you.</strong></em> &nbsp\;</p></body></html>
LOCATION:100 W. Main Street Eastland TX 76448
UID:e.1817.1445573
SEQUENCE:3
DTSTAMP:20260421T234326Z
URL:https://business.eastlandchamber.com/eventcalendar/Details/ripfest-2026-1712189?sourceTypeId=Hub
END:VEVENT
END:VCALENDAR
